BEGIN:VCALENDAR
BEGIN:VEVENT
DTSTART:20170227T120000Z
DTEND:20170507T110000Z
SUMMARY:CUAG: The Other NFB: The National Film Board of Canada’s Still Photography Division, 1941-1971
DESCRIPTION:The National Film Board of Canada (NFB) has long been acclaimed for its films, but few Canadians know that during a pivotal period in the country’s history, the NFB also functioned as the country’s official photographer. The NFB’s Still Division photographers travelled across Canada, making images that were reproduced in newspapers, magazines, books, filmstrips, and exhibitions.



The Other NFB looks at how this agency imagined Canada and its identity, what role photographs played in that imagining, and how the photographic archive has been used. The NFB aspired not just to present an image of the country, but the image. As a result, the NFB is unique in the history of Canadian visual culture as a conveyor of governmental values and programs in photographic form.



Curated by Carol Payne and Sandra Dyck
LOCATION:Art Gallery  St. Patrick&#039;s Building, Carleton University, 1125 Colonel By Dr, Ottawa, ON K1S 5B6
URL:
END:VEVENT
END:VCALENDAR