BEGIN:VCALENDAR
BEGIN:VEVENT
DTSTART:20180904T140000Z
DTEND:20180904T163000Z
SUMMARY:Graduate Student Orientation: Art History
DESCRIPTION:The School for Studies in Art and Culture is hosting an Art History Graduate Student Orientation session on Tuesday, September 4th, 10.00 a.m. at 2202 Canal Building. &nbsp;All faculty, contract instructors with TAs assigned and graduate students (new and returning) are invited to attend the orientation.



&nbsp;



10.00 a.m.&nbsp;&nbsp;&nbsp; Welcome from Stephane Roy, Graduate Supervisor



10.20 a.m.&nbsp;&nbsp;&nbsp; Sandra Dyck, CUAG



10.25 a.m. &nbsp;&nbsp; Morgan Currie, Practica Supervisor



10.30 a.m.&nbsp;&nbsp;&nbsp; GSA, Graduate Student Association



10.40 a.m.&nbsp;&nbsp;&nbsp; CUPE 4600



11.00 a.m.&nbsp;&nbsp;&nbsp; Meeting of instructors and their TAs



11.30 a.m.&nbsp;&nbsp;&nbsp; Refreshments and Snacks to follow in the AVRC, 462SP



11.35 a.m.&nbsp;&nbsp;&nbsp; Welcome from Director, Brian Foss



11.40 a.m.&nbsp;&nbsp;&nbsp; Helen Roumeliotis, &nbsp;TA Mentor



11.45 a.m.&nbsp;&nbsp;&nbsp; Nancy Duff, AVRC



11.50 a.m.&nbsp;&nbsp;&nbsp; Jack Coghill
LOCATION:2202 Canal Building, Carleton University, 1125 Colonel By Dr, Ottawa, ON K1S 5B6
URL:
END:VEVENT
END:VCALENDAR