BEGIN:VCALENDAR
BEGIN:VEVENT
DTSTART:20200908T140000Z
DTEND:20200908T150000Z
SUMMARY:Art History Graduate Orientation: September 8th at 10am
DESCRIPTION:Welcome to the Art History MA program at Carleton University.



Your live orientation event will begin at 10am (EST) on Tuesday September 8th



During this event, not only will you get to meet other students in your cohort, but you will also have the opportunity to meet your Art History professors and other important contacts throughout the university and discuss your research topics of interest.



A zoom invitation will be sent to your Carleton e-mail



&nbsp;



FILM STUDIES GRADUATE STUDENT ORIENTATION SCHEDULE&nbsp;



&nbsp; &nbsp; &nbsp; &nbsp; &nbsp; &nbsp; &nbsp; &nbsp; &nbsp; &nbsp; &nbsp; &nbsp; &nbsp; &nbsp; &nbsp; &nbsp; &nbsp;TUESDAY, SEPT 8, 2020-10.35 AM-11 AM&nbsp;



&nbsp;



TIMEWHATWHOLOCATION10:35-10: 40Welcome and opening remarksAboubakar SanogoZoom10:40-10:45Student introductions including Graduate Student RepresentativeFirst and Second-Year studentsZoom10.45-10:50Faculty IntroductionsAll facultyZoom10: 45 -10:50Graduate Administrator introductionKristopher WaddellZoom10:50-10:55Audio Visual Research Center (AVRC) introductionNancy DuffZoom10:55-11: 00Q &amp; AAboubakar/EverybodyZoom
LOCATION:Carleton University, 1125 Colonel By Dr, Ottawa, ON K1S 5B6
URL:
END:VEVENT
END:VCALENDAR