BEGIN:VCALENDAR
BEGIN:VEVENT
DTSTART:20200314T140000Z
DTEND:20200314T180000Z
SUMMARY:March Break Open House: March 14
DESCRIPTION:Start writing your Carleton story by attending March Break Open House!



Carleton University&#039;s March Break Open House offers prospective undergraduate students and their families a chance to learn about the university&#039;s wide range of academic programs and student services. Guests are able to attend workshops or presentations organized by our various academic schools and departments, take campus and residence tours, and learn about the unique Carleton experience.



Saturday, March 14, 2020: Faculty of Arts and Social Sciences, Faculty of Public Affairs



Come learn more about the Bachelor of Global &amp; International Studies and the Bachelor of Public Affairs and Policy Management.



Campus and residence tours are available on faculty-specific days as well as on March 16 - 20, 2020.



For more information and to register, please visit carleton.ca/marchbreak.
LOCATION:Atrium Richcraft Hall, Carleton University, 1125 Colonel By Dr, Ottawa, ON K1S 5B6
URL:
END:VEVENT
END:VCALENDAR