BEGIN:VCALENDAR
BEGIN:VEVENT
DTSTART:20230317T170000Z
DTEND:20230317T180000Z
SUMMARY:Biology Seminar Series: Dr. Ludwig
DESCRIPTION:Title: Various aspects of the transmission of mosquito-borne diseases in Canada







Dr. Ludwig



Public Health Agency of Canada



Friday, March 17 at 1:00 p.m., CTTC 4440Q



Coffee will be available at 1:00 p.m. Everyone is welcome!



Abstract:



In this presentation, Dr. Ludwig proposes to review the various aspects of the transmission of mosquito-borne diseases in Canada, from the point of view of the epidemiologist. More precisely, she will present a synthesis of the main diseases transmitted by mosquitoes currently present in Canada, then will discuss the elements of virus transmission between mosquitoes and their host as well as the variables that influence this transmission (biotic and abiotic variables). She will finish by evoking some examples of work she is involved in which explore all this in order to illustrate how this vast problem can be studied from a population point of view.



Bio:



Dr. Ludwig is a trained veterinarian. She graduated from the veterinary school of Lyon (France) in 2002. After a year in veterinary practice (pets, horses), she went back to school and did a Master in modeling at the university of Grenoble (France) in 2003. In 2004, she came in Canada to do her PhD on the impact of the West Nile virus on American crow populations in southern Quebec. She completed her PhD in 2008 and joined the public health agency of Canada.



Dr. Ludwig works with the Public Health Risk Sciences division from the National Microbiology Laboratory of the Public Health Agency of Canada.



Her research focuses on identifying zoonotic disease and modelling environmental determinants of disease vectors that present a danger to public health. She specializes in modelling zoonotic vectors transmitted by insects; and works on West Nile virus and other diseases transmitted by mosquitos and ticks, notably as they relate to climate change.
LOCATION:4440Q Carleton Technology and Training Centre, Carleton University, 1125 Colonel By Dr, Ottawa, ON K1S 5B6
URL:
END:VEVENT
END:VCALENDAR