BEGIN:VCALENDAR
BEGIN:VEVENT
DTSTART:20241004T200000Z
DTEND:20241004T230000Z
SUMMARY:George R. Carmody Lecture with Dr. Zoe Lindo
DESCRIPTION:Thank you for being a part of this year&#039;s Carmody Lecture!











2024 Thesis Excellence Award Winners









Iman Momeni Dehaghi



Claire Peneycad







Simon Lakey
LOCATION:Atrium, Richcraft Hall, Carleton University, 1125 Colonel By Dr, Ottawa, ON K1S 5B6
URL:
END:VEVENT
END:VCALENDAR