BEGIN:VCALENDAR
BEGIN:VEVENT
DTSTART:20130927T193000Z
DTEND:20130927T203000Z
SUMMARY:Dr. Irwin Brodo
DESCRIPTION:Travels with a Lichenologist: Stories Lichens Tell Us



Dr. Irwin Brodo, Canadian Museum of Nature, Ottawa
Faculty Host: Myron Smith
George Carmody Lecture • Lichens



&nbsp;



Irwin Brodo will comment on some of the interesting lichens he’s encountered over his career of over 50 years and why they were worth the study. We will travel from Long Island, New York to the misty islands of Haida Gwaii, from the barrens of Labrador to the tropics of Costa Rica, among the many places with fascinating lichenological stories.



&nbsp;
LOCATION:4440Q Carleton Technology and Training Centre, Carleton University, 1125 Colonel By Dr, Ottawa, ON K1S 5B6
URL:
END:VEVENT
END:VCALENDAR