BEGIN:VCALENDAR
BEGIN:VEVENT
DTSTART:20150417T193000Z
DTEND:20150417T040000Z
SUMMARY:McCully Lecture in Plant Biology
DESCRIPTION:From the lab to the field: Research for sustainable agriculture



&nbsp;



Dr. Frédérique C. Guinel
Professor
Wilfred Laurier University



&nbsp;
LOCATION:4440Q Carleton Technology and Training Centre, Carleton University, 1125 Colonel By Dr, Ottawa, ON K1S 5B6
URL:
END:VEVENT
END:VCALENDAR