BEGIN:VCALENDAR
BEGIN:VEVENT
DTSTART:20160414T193000Z
DTEND:20160414T203000Z
SUMMARY:McCully Lecture: Dr. William Plaxton
DESCRIPTION:“Feeding hungry plants: purple acid phosphatases&nbsp;play a pivotal role in phosphorus nutrition”



&nbsp;



Dr. William Plaxton
Queen’s University Research Chair



A light reception will take place at 3 p.m.
LOCATION:4440Q Carleton Technology and Training Centre, Carleton University, 1125 Colonel By Dr, Ottawa, ON K1S 5B6
URL:
END:VEVENT
END:VCALENDAR