BEGIN:VCALENDAR
BEGIN:VEVENT
DTSTART:20170317T213000Z
DTEND:20170317T040000Z
SUMMARY:George R. Carmody Lecture with Dr. Joanne P. Webster
DESCRIPTION:Epidemiology and evolution of zoonotic schistosomiasis in a changing world



with Dr. Joanne P. Webster



Royal Veterinary College, University of London



&nbsp;



Abstract:&nbsp;Schistosomiasis is a parasitic disease of profound medical and veterinary importance, which has attracted increased focus and funding for control since the Millennium. However, despite&nbsp;shifts in global health policy towards the implementation of mass chemotherapeutic control programmes (aimed at school-aged children) at the national scale in sub-Saharan Africa, including those expanding out from morbidity control to potential ‘elimination as a public health problem’ in selected countries or regions, challenges remain and novel challenges have emerged.&nbsp;&nbsp;Knowledge on how the phenotype and genotype of&nbsp;Schistosoma&nbsp;spp. populations change in response to praziquantel pressure has important implications for the success of control programmes wherever mass chemotherapy is implemented. A major concern is the potential for reduced drug efficacy and/or the evolution of praziquantel resistance.&nbsp; However, changes in drug efficacy may not be the only explanation for apparent treatment failures and ongoing high transmission in areas of high drug coverage.&nbsp;&nbsp;Here I present data from a series of field and laboratory research on schistosomes of humans, livestock and wildlife across Africa and Asia under contrasting treatment histories and habitat selection pressures. Such research&nbsp;incorporates cutting edge developments in parasitological diagnostic tools and statistical analyses, and from parasite population genetics to genomics.&nbsp;&nbsp;I discuss the results to date in terms of their theoretical and applied implications and applications.



Everyone Welcome!



The lecture will begin at 6:00 p.m.



Please join us for a special reception following the lecture.
LOCATION:2200 (Formerly River Building) Richcraft Hall, Carleton University, 1125 Colonel By Dr, Ottawa, ON K1S 5B6
URL:
END:VEVENT
END:VCALENDAR