BEGIN:VCALENDAR
BEGIN:VEVENT
DTSTART:20170331T040000Z
DTEND:20170331T040000Z
SUMMARY:Biology Seminar Series: Scott Wilson
DESCRIPTION:Drivers of population change throughout the annual cycle in Neotropical migratory birds



Host: Bennett Lab, Fahrig Lab



Note that this seminar is an adjunct seminar
LOCATION:4440Q Carleton Technology and Training Centre, Carleton University, 1125 Colonel By Dr, Ottawa, ON K1S 5B6
URL:
END:VEVENT
END:VCALENDAR