BEGIN:VCALENDAR
BEGIN:VEVENT
DTSTART:20170407T190000Z
DTEND:20170407T203000Z
SUMMARY:Biology Seminar Series: Andrew Hendry
DESCRIPTION:Eco-evolutionary dynamics



Dr. Andrew Hendry



McGill University











Friday April 7th, at 3:30PM CTTC 4440Q



&nbsp;Coffee and tea will be available at 3:00pm



Keywords:&nbsp;Eco-Evo, Galapagos, guppies, Darwin’s finches
LOCATION:4440Q Carleton Technology and Training Centre, Carleton University, 1125 Colonel By Dr, Ottawa, ON K1S 5B6
URL:
END:VEVENT
END:VCALENDAR