BEGIN:VCALENDAR
BEGIN:VEVENT
DTSTART:20170512T190000Z
DTEND:20170512T203000Z
SUMMARY:Tracking non-linear temporal patterns in bird populations with Bayesian hierarchical models
DESCRIPTION:Tracking non-linear temporal patterns in bird populations with Bayesian hierarchical models



Dr. Adam Smith



&nbsp;National Wildlife Research Centre











Friday May 12th , at 3:30PM CTTC 4440Q



&nbsp;Coffee and tea will be available at 3:00pm



Keywords: modeling uncertainty, insect outbreaks and forest birds, swallows and multi-species change points
LOCATION:4440Q Carleton Technology and Training Centre, Carleton University, 1125 Colonel By Dr, Ottawa, ON K1S 5B6
URL:
END:VEVENT
END:VCALENDAR