BEGIN:VCALENDAR
BEGIN:VEVENT
DTSTART:20170519T190000Z
DTEND:20170519T203000Z
SUMMARY:Biology Seminar Series: Dr. Jason O&#039;Brien
DESCRIPTION:Molecular Ecotoxicology at Environment and Climate Change Canada: Protecting Wildlife (and their Genomes) from the Effects of Environmental Pollutants





Environment and Climate Change Canada



Keywords: wildlife biology, geonomic health, ecotoxicology



Friday May 19th at 3:30PM CTTC 4440Q



Coffee and tea will be available at 3:00pm



Host:&nbsp;Willmore Lab



Note that this seminar is an adjunct seminar



Share: Twitter, Facebook



&nbsp;
LOCATION:4440Q Carleton Technology and Training Centre, Carleton University, 1125 Colonel By Dr, Ottawa, ON K1S 5B6
URL:
END:VEVENT
END:VCALENDAR