BEGIN:VCALENDAR
BEGIN:VEVENT
DTSTART:20170523T163000Z
DTEND:20170523T180000Z
SUMMARY:Biology Seminar Series: Dr. Nick Lapointe
DESCRIPTION:Aquatic conservation – threats and solutions











Tuesday May 23rd, at 1:00PM CTTC 4440Q



&nbsp;Coffee and tea will be available at 12:30pm
LOCATION:4440Q Carleton Technology and Training Centre, Carleton University, 1125 Colonel By Dr, Ottawa, ON K1S 5B6
URL:
END:VEVENT
END:VCALENDAR