BEGIN:VCALENDAR
BEGIN:VEVENT
DTSTART:20170525T143000Z
DTEND:20170525T153000Z
SUMMARY:Biology Seminar Series: Dr. Megan Bailey
DESCRIPTION:Effective fisheries management through seafood traceability











Dr. Megan Bailey
Marine Affairs Program-
Dalhousie University



Thursday May 25th, at 10:30am&nbsp;CTTC 4440Q
LOCATION:4440Q Carleton Technology and Training Centre, Carleton University, 1125 Colonel By Dr, Ottawa, ON K1S 5B6
URL:
END:VEVENT
END:VCALENDAR