BEGIN:VCALENDAR
BEGIN:VEVENT
DTSTART:20170602T190000Z
DTEND:20170602T203000Z
SUMMARY:Biology Seminar Series: Mike Mesterton-Gibbons
DESCRIPTION:Defence and Rearguard Action: Models of Behaviours Observed in a Cichlid and a Parasitoid Wasp







Mike Mesterton-Gibbons



Florida State University
LOCATION:4440Q Carleton Technology and Training Centre, Carleton University, 1125 Colonel By Dr, Ottawa, ON K1S 5B6
URL:
END:VEVENT
END:VCALENDAR