BEGIN:VCALENDAR
BEGIN:VEVENT
DTSTART:20170616T190000Z
DTEND:20170616T203000Z
SUMMARY:Biology Seminar Series: Dr Bahram Samanfar
DESCRIPTION:Soybean applied genomics with a Western Canada perspective



Bahram Samanfar



Adjunct Application Seminar
LOCATION:4440Q Carleton Technology and Training Centre, Carleton University, 1125 Colonel By Dr, Ottawa, ON K1S 5B6
URL:
END:VEVENT
END:VCALENDAR