BEGIN:VCALENDAR
BEGIN:VEVENT
DTSTART:20170713T170000Z
DTEND:20170713T180000Z
SUMMARY:Biology Seminar Series : Dr. Jomar Rabajante
DESCRIPTION:Parameter Range of Red Queen Cycles in Multi-Host and Multi-Parasite Coevolution



Dr. Jomar Rabajante



Institute of Mathematical Sci. &amp; Physics, University of Philippines, Los Baños











Hosted by Mark Forbes



&nbsp;
LOCATION:4440Q Carleton Technology and Training Centre, Carleton University, 1125 Colonel By Dr, Ottawa, ON K1S 5B6
URL:
END:VEVENT
END:VCALENDAR