BEGIN:VCALENDAR
BEGIN:VEVENT
DTSTART:20170719T180000Z
DTEND:20170719T190000Z
SUMMARY:Biology Seminar Series : Dr. Claudia Bank
DESCRIPTION:Fitness landscapes and the predictability of evolution



Dr. Claudia Bank



Instituto Gulbenkian de Ciencia Portugal











Hosted by Dr. Alex Wong
LOCATION:4440Q Carleton Technology and Training Centre, Carleton University, 1125 Colonel By Dr, Ottawa, ON K1S 5B6
URL:
END:VEVENT
END:VCALENDAR