BEGIN:VCALENDAR
BEGIN:VEVENT
DTSTART:20170927T193000Z
DTEND:20170927T203000Z
SUMMARY:Biology Seminar Series : Albrecht Schulte-Hostedde
DESCRIPTION:Zoo conservation science - challenges and opportunities











Dr. Albrecht Schulte-Hostedde



Laurentian University
LOCATION:4440Q Carleton Technology and Training Centre, Carleton University, 1125 Colonel By Dr, Ottawa, ON K1S 5B6
URL:
END:VEVENT
END:VCALENDAR