BEGIN:VCALENDAR
BEGIN:VEVENT
DTSTART:20171013T193000Z
DTEND:20171013T203000Z
SUMMARY:Biology Seminar Series : Dr Art Weis
DESCRIPTION:The seasonal timing of things:



Attributing selection on germination and flowering dates to the internal, social and general environments











Dr. Art Weis



University of Toronto
LOCATION:4440Q Carleton Technology and Training Centre, Carleton University, 1125 Colonel By Dr, Ottawa, ON K1S 5B6
URL:
END:VEVENT
END:VCALENDAR