BEGIN:VCALENDAR
BEGIN:VEVENT
DTSTART:20171020T193000Z
DTEND:20171020T203000Z
SUMMARY:Biology Seminar Series : Dr Alison Derry
DESCRIPTION:From populations to ecosystems: 
the role of intraspecific variation in 
eco-evolutionary dynamics











Dr. Alison Derry



Université du Québec à Montréal
LOCATION:4440Q Carleton Technology and Training Centre, Carleton University, 1125 Colonel By Dr, Ottawa, ON K1S 5B6
URL:
END:VEVENT
END:VCALENDAR