BEGIN:VCALENDAR
BEGIN:VEVENT
DTSTART:20171103T193000Z
DTEND:20171103T203000Z
SUMMARY:Biology Seminar Series: Dr Danielle Fraser
DESCRIPTION:The roles of climate and biotic interchange in the assembly of mammal communities



&nbsp;











Dr. Danielle Fraser



Museum of Nature



Adjunct Seminar
LOCATION:4440Q Carleton Technology and Training Centre, Carleton University, 1125 Colonel By Dr, Ottawa, ON K1S 5B6
URL:
END:VEVENT
END:VCALENDAR