BEGIN:VCALENDAR
BEGIN:VEVENT
DTSTART:20171107T170000Z
DTEND:20171107T180000Z
SUMMARY:Biology Seminar Series: Austin Gallagher
DESCRIPTION:Shark research in a changing world:



integrating conservation, physiology and behavior



to solve a 500 million year puzzle











Dr. Austin Gallagher



Founder and CEO



Beneath the Waves
LOCATION:4440Q Carleton Technology and Training Centre, Carleton University, 1125 Colonel By Dr, Ottawa, ON K1S 5B6
URL:
END:VEVENT
END:VCALENDAR