BEGIN:VCALENDAR
BEGIN:VEVENT
DTSTART:20171110T203000Z
DTEND:20171110T213000Z
SUMMARY:Biology Seminar Series: Eliana Cazetta
DESCRIPTION:Brazilian Atlantic Forest loss&nbsp;



and its impacts on biodiversity











Dr. Eliana Cazetta



State University of Santa Cruz,&nbsp;Brazil
LOCATION:4440Q Carleton Technology and Training Centre, Carleton University, 1125 Colonel By Dr, Ottawa, ON K1S 5B6
URL:
END:VEVENT
END:VCALENDAR