BEGIN:VCALENDAR
BEGIN:VEVENT
DTSTART:20171124T203000Z
DTEND:20171124T213000Z
SUMMARY:Biology Seminar Series: Annie Thibault
DESCRIPTION:La chambre des cultures, foraging in time and space











Annie Thibauilt



Artist in Residence
Carleton University Art Gallery



Art Public Montréal



&nbsp;
LOCATION:4440Q Carleton Technology and Training Centre, Carleton University, 1125 Colonel By Dr, Ottawa, ON K1S 5B6
URL:
END:VEVENT
END:VCALENDAR