BEGIN:VCALENDAR
BEGIN:VEVENT
DTSTART:20171201T203000Z
DTEND:20171201T213000Z
SUMMARY:Biology Seminar Series: Dr. James McLaren
DESCRIPTION:Interactions between migrating birds and their environment: confronting behavioural-based approaches with big data



Dr. James McLaren
Post Doctoral Fellow
NWRC
LOCATION:4440Q Carleton Technology and Training Centre, Carleton University, 1125 Colonel By Dr, Ottawa, ON K1S 5B6
URL:
END:VEVENT
END:VCALENDAR