BEGIN:VCALENDAR
BEGIN:VEVENT
DTSTART:20171208T203000Z
DTEND:20171208T213000Z
SUMMARY:Biology Seminar Series: Dr. Thomas Merritt
DESCRIPTION:Transvection: how inter-chromosomal communication turned a bad day in the lab into a research program



Dr. Thomas Merritt
Laurentian University











&nbsp;



&nbsp;



&nbsp;



&nbsp;



&nbsp;



&nbsp;



&nbsp;



&nbsp;



&nbsp;



&nbsp;



&nbsp;



Coffee and tea will be available at 3:00 p.m.



Host: MacMillan Lab



Key words: gene expression, epigenetics, chromosome pairing, drosophila, complex phenotypes
LOCATION:4440Q Carleton Technology and Training Centre, Carleton University, 1125 Colonel By Dr, Ottawa, ON K1S 5B6
URL:
END:VEVENT
END:VCALENDAR