BEGIN:VCALENDAR
BEGIN:VEVENT
DTSTART:20180126T203000Z
DTEND:20180126T213000Z
SUMMARY:Biology Seminar Series: Jon Midwood
DESCRIPTION:Integrating emerging science to support fisheries management











Jon Midwood



DFO Burlington



&nbsp;
LOCATION:4440Q Carleton Technology and Training Centre, Carleton University, 1125 Colonel By Dr, Ottawa, ON K1S 5B6
URL:
END:VEVENT
END:VCALENDAR