BEGIN:VCALENDAR
BEGIN:VEVENT
DTSTART:20180202T203000Z
DTEND:20180202T213000Z
SUMMARY:Biology Seminar Series: Matthew Silk
DESCRIPTION:Social network structure and disease transmission in a group living mammal











Matthew Silk



University of Exeter
LOCATION:44440Q Carleton Technology and Training Centre, Carleton University, 1125 Colonel By Dr, Ottawa, ON K1S 5B6
URL:
END:VEVENT
END:VCALENDAR