BEGIN:VCALENDAR
BEGIN:VEVENT
DTSTART:20180216T203000Z
DTEND:20180216T213000Z
SUMMARY:Biology Seminar Series: Dr. David Overy
DESCRIPTION:There and back again: A researcher’s tale in mycology, pathology and secondary metabolism











Dr. David Overy



Ottawa Research and Development Centre, Agriculture and Agri-Food Canada
LOCATION:44440Q Carleton Technology and Training Centre, Carleton University, 1125 Colonel By Dr, Ottawa, ON K1S 5B6
URL:
END:VEVENT
END:VCALENDAR