BEGIN:VCALENDAR
BEGIN:VEVENT
DTSTART:20180302T203000Z
DTEND:20180302T213000Z
SUMMARY:Biology Seminar Series: Dr. Allyson MacLean
DESCRIPTION:Unraveling the Mechanisms Enabling Arbuscular Mycorrhizal Symbiosis: A Microbial Perspective











Dr. Allyson MacLean



University of Ottawa
LOCATION:4440Q Carleton Technology and Training Centre, Carleton University, 1125 Colonel By Dr, Ottawa, ON K1S 5B6
URL:
END:VEVENT
END:VCALENDAR