BEGIN:VCALENDAR
BEGIN:VEVENT
DTSTART:20180309T203000Z
DTEND:20180309T213000Z
SUMMARY:Biology Seminar Series: Dr. Janet Koprivnikar
DESCRIPTION:Avoidance and attraction: a host-parasite story











Dr.&nbsp;Janet Koprivnikar



Ryerson University
LOCATION:4440Q Carleton Technology and Training Centre, Carleton University, 1125 Colonel By Dr, Ottawa, ON K1S 5B6
URL:
END:VEVENT
END:VCALENDAR