BEGIN:VCALENDAR
BEGIN:VEVENT
DTSTART:20180323T193000Z
DTEND:20180323T203000Z
SUMMARY:Biology Seminar Series: Susan Twine
DESCRIPTION:From Biowarfare to Vaccines - Development of a Live Attenuated Vaccine Strain to Combat Francisella tularensis











Dr. Susan Twine



National Research Council of Canada
LOCATION:4440Q Carleton Technology and Training Centre, Carleton University, 1125 Colonel By Dr, Ottawa, ON K1S 5B6
URL:
END:VEVENT
END:VCALENDAR