BEGIN:VCALENDAR
BEGIN:VEVENT
DTSTART:20180413T193000Z
DTEND:20180413T203000Z
SUMMARY:Biology Seminar Series: Dr. Colin Favret
DESCRIPTION:From cybertaxonomy to phylogenomics: progress but a long road ahead in insect systematics











Dr. Colin Favret



Université de Montréal
LOCATION:4440Q Carleton Technology and Training Centre, Carleton University, 1125 Colonel By Dr, Ottawa, ON K1S 5B6
URL:
END:VEVENT
END:VCALENDAR