BEGIN:VCALENDAR
BEGIN:VEVENT
DTSTART:20180730T183000Z
DTEND:20180730T193000Z
SUMMARY:Biology Seminar Series: Dr. Dylan Kosma
DESCRIPTION:Identification of Transcriptional Regulators of Wound Suberin Deposition











Dr. Dylan Kosma



University of Nevada
LOCATION:4440Q Carleton Technology and Training Centre, Carleton University, 1125 Colonel By Dr, Ottawa, ON K1S 5B6
URL:
END:VEVENT
END:VCALENDAR