BEGIN:VCALENDAR
BEGIN:VEVENT
DTSTART:20180619T150000Z
DTEND:20180619T160000Z
SUMMARY:Special Seminar: Dr. Daniel Kierzkowski
DESCRIPTION:How are leaf shapes generated?











Dr. Daniel Kierzkowski



Université de Montreal
LOCATION:4440Q Carleton Technology and Training Centre, Carleton University, 1125 Colonel By Dr, Ottawa, ON K1S 5B6
URL:
END:VEVENT
END:VCALENDAR