BEGIN:VCALENDAR
BEGIN:VEVENT
DTSTART:20180921T160000Z
DTEND:20180921T170000Z
SUMMARY:Biology Seminar Series: Dr. Janet Yee
DESCRIPTION:Gene expression studies on a waterborne parasite, Giardia intestinalis











Dr. Janet Yee



Trent University
LOCATION:4440Q Carleton Technology and Training Centre, Carleton University, 1125 Colonel By Dr, Ottawa, ON K1S 5B6
URL:
END:VEVENT
END:VCALENDAR