BEGIN:VCALENDAR
BEGIN:VEVENT
DTSTART:20181005T183000Z
DTEND:20181005T193000Z
SUMMARY:Biology Seminar Series: Dr. Victor Arroyo-Rodriguez
DESCRIPTION:Tropical biodiversity in human-modified landscapes: Patterns and drivers across multiple spatial scales











Dr. Victor Arroyo-Rodriguez



National Autonomous University of Mexico/ Carleton University
LOCATION:4440Q Carleton Technology and Training Centre, Carleton University, 1125 Colonel By Dr, Ottawa, ON K1S 5B6
URL:
END:VEVENT
END:VCALENDAR