BEGIN:VCALENDAR
BEGIN:VEVENT
DTSTART:20181012T183000Z
DTEND:20181012T193000Z
SUMMARY:Biology Seminar Series: Dr. Jacqueline Bede
DESCRIPTION:Plant-insect interactions: The dance between plants and caterpillar herbivores
LOCATION:4440Q Carleton Technology and Training Centre, Carleton University, 1125 Colonel By Dr, Ottawa, ON K1S 5B6
URL:
END:VEVENT
END:VCALENDAR