BEGIN:VCALENDAR
BEGIN:VEVENT
DTSTART:20181019T150000Z
DTEND:20181019T160000Z
SUMMARY:Biology Seminar Series: Dr. Ed Gregorich
DESCRIPTION:Writing and the review process; seminar and panel discussion
LOCATION:4440Q Carleton Technology and Training Centre, Carleton University, 1125 Colonel By Dr, Ottawa, ON K1S 5B6
URL:
END:VEVENT
END:VCALENDAR