BEGIN:VCALENDAR
BEGIN:VEVENT
DTSTART:20181102T183000Z
DTEND:20181102T193000Z
SUMMARY:Biology Seminar Series: Dr. James Barnett
DESCRIPTION:Camouflage of conspicuous signals
LOCATION:4440Q Carleton Technology and Training Centre, Carleton University, 1125 Colonel By Dr, Ottawa, ON K1S 5B6
URL:
END:VEVENT
END:VCALENDAR