BEGIN:VCALENDAR
BEGIN:VEVENT
DTSTART:20181109T193000Z
DTEND:20181109T203000Z
SUMMARY:Biology Seminar Series: Dr. Aerin Jacob
DESCRIPTION:From Yellowstone to Yukon: Making the case for large landscape conservation
LOCATION:4440Q Carleton Technology and Training Centre, Carleton University, 1125 Colonel By Dr, Ottawa, ON K1S 5B6
URL:
END:VEVENT
END:VCALENDAR