BEGIN:VCALENDAR
BEGIN:VEVENT
DTSTART:20181116T193000Z
DTEND:20181116T203000Z
SUMMARY:Biology Seminar Series: Dr Peter Arcese &amp; Dr. Amanda Rodewald
DESCRIPTION:Synergies &amp; trade-offs in biodiversity conservation on private lands















&nbsp;



&nbsp;



&nbsp;



&nbsp;



&nbsp;



&nbsp;



&nbsp;



&nbsp;



&nbsp;
LOCATION:4440Q Carleton Technology and Training Centre, Carleton University, 1125 Colonel By Dr, Ottawa, ON K1S 5B6
URL:
END:VEVENT
END:VCALENDAR