BEGIN:VCALENDAR
BEGIN:VEVENT
DTSTART:20181123T170000Z
DTEND:20181123T180000Z
SUMMARY:Biology Seminar Series: Dr. Dominique Roche
DESCRIPTION:Why we need Open Science
LOCATION:4440Q Carleton Technology and Training Centre, Carleton University, 1125 Colonel By Dr, Ottawa, ON K1S 5B6
URL:
END:VEVENT
END:VCALENDAR