BEGIN:VCALENDAR
BEGIN:VEVENT
DTSTART:20181130T193000Z
DTEND:20181130T203000Z
SUMMARY:Biology Seminar Series: Dr. Marcel Dorken
DESCRIPTION:The evolution of alternative modes of reproduction
LOCATION:4440Q Carleton Technology and Training Centre, Carleton University, 1125 Colonel By Dr, Ottawa, ON K1S 5B6
URL:
END:VEVENT
END:VCALENDAR