BEGIN:VCALENDAR
BEGIN:VEVENT
DTSTART:20181207T193000Z
DTEND:20181207T203000Z
SUMMARY:Biology Seminar Series: Dr Chantal Vis
DESCRIPTION:Adjunct nomination seminar:



Bridging science and policy in support of conservation of aquatic ecosystems
LOCATION:4440Q Carleton Technology and Training Centre, Carleton University, 1125 Colonel By Dr, Ottawa, ON K1S 5B6
URL:
END:VEVENT
END:VCALENDAR