BEGIN:VCALENDAR
BEGIN:VEVENT
DTSTART:20181212T193000Z
DTEND:20181212T203000Z
SUMMARY:Biology Seminar Series: Dr. Elizabeth Rideout
DESCRIPTION:Sex-specific metabolic control determines a male-female difference in Drosophila starvation resistance
LOCATION:4440Q Carleton Technology and Training Centre, Carleton University, 1125 Colonel By Dr, Ottawa, ON K1S 5B6
URL:
END:VEVENT
END:VCALENDAR