BEGIN:VCALENDAR
BEGIN:VEVENT
DTSTART:20190131T000000Z
DTEND:20190130T050000Z
SUMMARY:George R. Carmody Lecture with Dan Strickland
DESCRIPTION:George R Carmody Lecture











The Triumph.... and Downfall of the Canada Jay



with Dan Strickland



retired Chief Park Naturalist at Algonquin Provincial Park



Tea &amp; Coffee at 6:30 p.m. Reception to follow lecture.



Everyone Welcome!



Abstract:&nbsp;&nbsp;The Canada Jay, the iconic &quot;whiskeyjack&quot; of the north woods, has been studied in Algonquin Park for over fifty years. Almost miraculously, this bird dispenses with migration and lives its entire life on year-round territories in the boreal and subalpine forests of North America including in every province and territory in Canada and right up to tree line from Alaska to Newfoundland. What&#039;s more, it does so with astonishing ease, even surviving the long, cold, and apparently foodless boreal winters actually better than it does in summer. And to top off everything else it actually raises its young—again with remarkable success—in late winter, often fledgling its young while the snow is still deep in the bush, the lakes are still frozen, and most of the migratory songbirds in the boreal forest have not even returned, let alone started to nest themselves. In this year&#039;s Carmody Lecture retired Algonquin Chief Park Naturalist, Dan Strickland,&nbsp;will relate how he and others have unravelled the secrets of these successes. And then, with some sadness, he will say why the ecological triumph of the Canada Jay has a fatal flaw and why our beloved whiskeyjacks are heading for serious trouble.



Speaker Biography:&nbsp;Since the early 1980s, Mr. Strickland has led a research program on&nbsp;our national bird, the Canada Jay (formerly known as the Grey Jay).&nbsp;The&nbsp;leading expert&nbsp;on the Canada Jay, he has&nbsp;made many discoveries regarding the natural history,&nbsp;ecology and behaviour of these birds.&nbsp; The Algonquin Park Canada Jay&nbsp;research program, which has been active&nbsp;for 55 years and counting,&nbsp;is now one of the world&#039;s longest-running studies of the same bird population.



CU Campus Map



CU Parking Map



More Information about the Carmody Lecture Series
LOCATION:608, Senate Room Pigiarvik, Carleton University, 1125 Colonel By Dr, Ottawa, ON K1S 5B6
URL:
END:VEVENT
END:VCALENDAR